BEGIN:VCALENDAR
VERSION:2.0
PRODID:-//Library Market//iCal Export//EN
BEGIN:VEVENT
SUMMARY:Killer Reads Book Discussion Group - A Talent For Murder
UID:113866
DTSTAMP:20260421T033900Z
DTSTART:20260609T150000Z
DTEND:20260609T160000Z
LOCATION:1 Church Street, Kings Park, NY 11754, United States
ROOM: Kings Park Building Community Room
DESCRIPTION:Join us for a book discussion group just for mystery lovers. W
 e will be discussing A Talent For Murder by Peter Swanson. Copies of the b
 ook are available at the Kings Park Building Circulation Desk.
URL:https://www.smithlib.org/event/killer-reads-book-discussion-group-1138
 66
END:VEVENT
END:VCALENDAR
