BEGIN:VCALENDAR
VERSION:2.0
PRODID:-//Library Market//iCal Export//EN
BEGIN:VEVENT
SUMMARY:Commack Book Discussion Group - The Henna Artist
UID:113940
DTSTAMP:20260421T035100Z
DTSTART:20260608T160000Z
DTEND:20260608T170000Z
LOCATION:3 Indian Head Road, Commack, NY 11725, United States
ROOM: Commack Building Community Room
DESCRIPTION:Looking for a good book to read and discuss with other book lo
 vers? Join us to discuss this month&#039;s book selection, The Henna Artis
 t by Alka Joshi. This program will take place in person and will also be a
 vailable on Zoom. Login information for Zoom will be sent to the email add
 ress associated with your Library card on the day of the event. Copies of 
 the book are available at the Commack Building Circulation Desk.
URL:https://www.smithlib.org/event/commack-book-discussion-group-113940
END:VEVENT
END:VCALENDAR
