BEGIN:VCALENDAR
VERSION:2.0
PRODID:-//Library Market//iCal Export//EN
BEGIN:VEVENT
SUMMARY:Sports Pages Book Discussion Group - Make Me Commissioner: I Know 
 What&#039;s Wrong with Baseball and How to Fix It
UID:113953
DTSTAMP:20260421T070900Z
DTSTART:20260601T143000Z
DTEND:20260601T163000Z
LOCATION:148 Smithtown Boulevard, Nesconset, NY 11767, United States
ROOM: Nesconset Building Quiet Study Room
DESCRIPTION:Read and discuss a non-fiction sports book with our local grou
 p. We will be discussing Make Me Commissioner: I Know What&#039;s Wrong wi
 th Baseball and How to Fix It by Jane Leavy. Books are available at the Sm
 ithtown Building Circulation Desk. 
URL:https://www.smithlib.org/event/sports-pages-book-discussion-group-1139
 53
END:VEVENT
END:VCALENDAR
