BEGIN:VCALENDAR
VERSION:2.0
PRODID:-//Library Market//iCal Export//EN
BEGIN:VEVENT
SUMMARY:Tea-rrific Reads Book Discussion Group - The Borrowed Life of Fred
 erick Fife
UID:113966
DTSTAMP:20260421T070900Z
DTSTART:20260623T180000Z
DTEND:20260623T190000Z
LOCATION:148 Smithtown Boulevard, Nesconset, NY 11767, United States
ROOM: Nesconset Building Community Room
DESCRIPTION:We will be discussing The Borrowed Life of Frederick Fife by A
 nne Johnston. Books are available at the Nesconset Building Circulation De
 sk.
URL:https://www.smithlib.org/event/tea-rrific-reads-book-discussion-group-
 113966
END:VEVENT
END:VCALENDAR
