BEGIN:VCALENDAR
VERSION:2.0
PRODID:-//Library Market//iCal Export//EN
BEGIN:VEVENT
SUMMARY:Night Owl Cafe Book Discussion Group - On Fire Island
UID:114019
DTSTAMP:20260421T070900Z
DTSTART:20260625T230000Z
DTEND:20260626T000000Z
LOCATION:148 Smithtown Boulevard, Nesconset, NY 11767, United States
ROOM: Nesconset Building Community Room
DESCRIPTION:Join us to discuss this month&#039;s book selection, On Fire I
 sland by Jane L. Rosen. Books will be available at the Nesconset Building 
 Circulation Desk.
URL:https://www.smithlib.org/event/night-owl-cafe-book-discussion-group-11
 4019
END:VEVENT
END:VCALENDAR
