BEGIN:VCALENDAR
VERSION:2.0
PRODID:-//Library Market//iCal Export//EN
BEGIN:VEVENT
SUMMARY:Clue - A Mystery Book Discussion Group - None of This is True
UID:114048
DTSTAMP:20260421T035100Z
DTSTART:20260610T183000Z
DTEND:20260610T193000Z
LOCATION:148 Smithtown Boulevard, Nesconset, NY 11767, United States
ROOM: Nesconset Building Community Room
DESCRIPTION:Looking for a good book to read and discuss with other mystery
  book lovers? Join us to discuss this month&#039;s book selection, None of
  This is True by Lisa Jewell. Copies of the book are available at the Nesc
 onset Building Circulation Desk.
URL:https://www.smithlib.org/event/clue-mystery-book-discussion-group-1140
 48
END:VEVENT
END:VCALENDAR
