BEGIN:VCALENDAR
VERSION:2.0
PRODID:-//Library Market//iCal Export//EN
BEGIN:VEVENT
SUMMARY:Smithtown Book Discussion Group - No More Tears
UID:114102
DTSTAMP:20260423T083800Z
DTSTART:20260618T144500Z
DTEND:20260618T164500Z
LOCATION:148 Smithtown Boulevard, Nesconset, NY 11767, United States
ROOM: Nesconset Building Community Room
DESCRIPTION:This group will discuss a different book on the third Thursday
  of every month. We will be discussing No More Tears by Gardiner Harris. B
 ooks are available at the Smithtown Building Circulation Desk.
URL:https://www.smithlib.org/event/smithtown-book-discussion-group-114102
END:VEVENT
END:VCALENDAR
