BEGIN:VCALENDAR
VERSION:2.0
PRODID:-//Library Market//iCal Export//EN
BEGIN:VEVENT
SUMMARY:One Family’s Revolution - The Townsends and the Birth of the Uni
 ted States
UID:115429
DTSTAMP:20260421T113300Z
DTSTART:20260623T230000Z
DTEND:20260624T003000Z
LOCATION:148 Smithtown Boulevard, Nesconset, NY 11767, United States
ROOM: Nesconset Building Community Room
DESCRIPTION:Experience the American Revolution as lived by the Townsend fa
 mily of Oyster Bay during the era that gave rise to the United States. Sam
 uel Townsend’s role in the New York Provincial Congress and his son Robe
 rt Townsend’s service in the Culper Spy Ring place this household at the
  heart of revolutionary events. Set against the backdrop of British occupa
 tion, this program, presented by Justinne Lake-Jedzinak, Director of Educa
 tion and Public Programs at Raynham Hall Museum, explores alliances, loyal
 ties, espionage, and enslavement—offering a deeply human perspective on 
 how independence unfolded inside one Long Island home 250 years ago.
URL:https://www.smithlib.org/event/long-island-room-program-june-2026-1154
 29
END:VEVENT
END:VCALENDAR
