BEGIN:VCALENDAR
VERSION:2.0
PRODID:-//Library Market//iCal Export//EN
BEGIN:VEVENT
SUMMARY:Long Island During the American Revolution - The Battle of Long Is
 land and the British Occupation
UID:115430
DTSTAMP:20260421T184900Z
DTSTART:20260728T230000Z
DTEND:20260729T003000Z
LOCATION:148 Smithtown Boulevard, Nesconset, NY 11767, United States
ROOM: Nesconset Building Community Room
DESCRIPTION:Join former Newsday staff writer and local history author Bill
  Bleyer as he traces the fascinating history of events surrounding the lar
 gest engagement of the American Revolution—the 1776 Battle of Long Islan
 d, a major defeat for the colonists that could have spelled the end of the
  Continental Army but surprisingly did not.  The subsequent British occup
 ation and the hardships it caused for Long Island residents until the end 
 of the war in 1783 will also be examined.
URL:https://www.smithlib.org/event/long-island-room-program-july-2026-1154
 30
END:VEVENT
END:VCALENDAR
