BEGIN:VCALENDAR
VERSION:2.0
PRODID:-//Library Market//iCal Export//EN
BEGIN:VEVENT
SUMMARY:George Smith - The Culper Ring’s Forgotten Smithtown Spy
UID:115431
DTSTAMP:20260422T014300Z
DTSTART:20260825T230000Z
DTEND:20260826T003000Z
LOCATION:148 Smithtown Boulevard, Nesconset, NY 11767, United States
ROOM: Nesconset Building Community Room
DESCRIPTION:A college-educated lawyer, soldier, military jurist, and spy, 
 George Smith led one of the Revolution’s most varied and overlooked care
 ers in service to the American cause. This program, presented by Mark Ster
 nberg, Culper Spy Ring historian and author, aims to restore Smith’s sto
 ry, interweaving his remarkable rise through the intelligence world with t
 he Revolutionary War events that shaped his hometown of Smithtown, Long Is
 land.
URL:https://www.smithlib.org/event/long-island-room-program-august-2026-11
 5431
END:VEVENT
END:VCALENDAR
