BEGIN:VCALENDAR
VERSION:2.0
PRODID:-//Library Market//iCal Export//EN
BEGIN:VEVENT
SUMMARY:Long Island Across 250 Years - Then and Now
UID:115434
DTSTAMP:20260422T182300Z
DTSTART:20261027T230000Z
DTEND:20261028T003000Z
LOCATION:148 Smithtown Boulevard, Nesconset, NY 11767, United States
ROOM: Nesconset Building Community Room
DESCRIPTION:Long Island has changed significantly over the course of the l
 ast 250 years.  In honor of the nation’s semiquincentennial, Justinne L
 ake-Jedzinak, Director of Education and Public Programs at Raynham Hall Mu
 seum, will trace how Long Island’s communities have evolved since the er
 a of independence. Through historic and modern images, explore the changin
 g landscapes of Oyster Bay, Jericho, Cold Spring Harbor, Huntington, and S
 mithtown, and discover how roads, buildings, and shorelines still reflect 
 choices made at the nation’s founding. The past and present come togethe
 r to show how 250 years of history continue to shape daily life today.
URL:https://www.smithlib.org/event/long-island-room-program-october-2026-1
 15434
END:VEVENT
END:VCALENDAR
