BEGIN:VCALENDAR
VERSION:2.0
PRODID:-//Library Market//iCal Export//EN
BEGIN:VEVENT
SUMMARY:All Abilities Gardening Club Dig into History
UID:137054
DTSTAMP:20260421T015100Z
DTSTART:20260511T140000Z
DTEND:20260511T150000Z
LOCATION:1 North Country Road, Smithtown, NY 11787, United States
ROOM: Smithtown Building Village Green
DESCRIPTION:Celebrate the Semiquincentennial and plant a garden of history
  and color with specialty seeds that honor our country’s founders. We wi
 ll meet outside at the Caleb Smith House. This program is geared towards p
 atrons 18 years and older with sensory issues, those on the autism spectru
 m or those who have other specific needs.
URL:https://www.smithlib.org/event/all-abilities-gardening-club-dig-histor
 y-137054
END:VEVENT
END:VCALENDAR
